Workbook
Name ENG_BI_CORE_LOCATION: "C:\Program Files (x86)\Sage Evolution\BIC\"
Name ENG_BI_EXE_FULL_PATH: "C:\Program Files (x86)\Sage Evolution\BIC\BICORE.EXE"
Name expenses: [1]Sheet2!$B$2:$B$18
Name Location: #REF!
Name overheads: [2]Sheet1!$B$1:$B$18
Name sortfield: [3]Sheet2!$D$3
Name StartDate: #REF!
Name SV_DBTYPE: "5"
Name SV_REPORT_CODE: "FX-Rates"
Name SV_REPORT_ID: "158"
Name SV_REPORT_NAME: "FX Rates"
Name SV_REPOSCODE: ""
Name SV_SOLUTION_ID: "33"
Name SV_TENANT_CODE: "SILVERLANDS RANCHING LIMITED"

Sheet Budget by Code
A1: ACCOUNTING CODES
C2: January | D2: February | E2: March | F2: April | G2: May | H2: June | I2: July | J2: August | K2: September | L2: October | M2: November | N2: December | O2: Total Average Monthly Cost | P2: % of Costs
C3: Budget | D3: Budget | E3: Budget | F3: Budget | G3: Budget | H3: Budget | I3: Budget | J3: Budget | K3: Budget | L3: Budget | M3: Budget | N3: Budget | U3: Consulting Fees | V3: 3
B5: Monthly LSU | C5: ='Stock Numbers'!J19 -> 98.7525 | D5: ='Stock Numbers'!J36 -> 98.505619 | E5: ='Stock Numbers'!J53 -> 98.259355 | F5: ='Stock Numbers'!J70 -> 98.013706 | G5: ='Stock Numbers'!J87 -> 88.168672 | H5: ='Stock Numbers'!J104 -> 87.94825 | I5: ='Stock Numbers'!J121 -> 109.83757 | J5: ='Stock Numbers'!J138 -> 98.562977 | K5: ='Stock Numbers'!J155 -> 89.816569 | L5: ='Stock Numbers'!J172 -> 94.508214 | M5: ='Stock Numbers'!J189 -> 99.18813 | N5: ='Stock Numbers'!J206 -> 96.856347
B6: Cost per LSU - Operating Costs | C6: =IFERROR(SUM(C28/$C$5),0) -> 0 | D6: =IFERROR(SUM(D28/$D$5),0) -> 0 | E6: =IFERROR(SUM(E28/$E$5),0) -> 0 | F6: =IFERROR(SUM(F28/$F$5),0) -> 0 | G6: =SUM(G28/$G$5) -> 7.0365129 | H6: =SUM(H28/$H$5) -> 0 | I6: =SUM(I28/$I$5) -> 0 | J6: =SUM(J28/$J$5) -> 4.4641509 | K6: =SUM(K28/$K$5) -> 6.3128664 | L6: =SUM(L28/$L$5) -> 0 | M6: =SUM(M28/$M$5) -> 0 | N6: =SUM(N28/$N$5) -> 6.0527784 | O6: =SUM(C6:N6)/12 -> 1.988859 | P6: =SUM(O6/$O$13) -> 0.05528509 | Q6: 1 | S6: =R6*12 -> 0
B7: Cost per LSU - Farm Costs | C7: =IFERROR(SUM(C34/$C$5),0) -> 16.646174 | D7: =IFERROR(SUM(D34/$D$5),0) -> 14.007587 | E7: =IFERROR(SUM(E34/$E$5),0) -> 12.144746 | F7: =IFERROR(SUM(F34/$F$5),0) -> 13.335453 | G7: =SUM(G34/$G$5) -> 13.141876 | H7: =SUM(H34/$H$5) -> 32.326903 | I7: =SUM(I34/$I$5) -> 16.939618 | J7: =SUM(J34/$J$5) -> 16.212817 | K7: =SUM(K34/$K$5) -> 27.606106 | L7: =SUM(L34/$L$5) -> 32.677379 | M7: =SUM(M34/$M$5) -> 31.358912 | N7: =SUM(N34/$N$5) -> 24.691465 | O7: =SUM(C7:N7)/COUNT(C7:N7) -> 20.924086 | P7: =SUM(O7/$O$13) -> 0.58163498 | R7: =SUM(O6:O8) -> 23.952458 | S7: =R7*12 -> 287.4295
B8: Cost per LSU - R & M | C8: =IFERROR(SUM(C69/$C$5),0) -> 1.0126326 | D8: =IFERROR(SUM(D69/$D$5),0) -> 1.0151705 | E8: =IFERROR(SUM(E69/$E$5),0) -> 1.0177148 | F8: =IFERROR(SUM(F69/$F$5),0) -> 1.0202655 | G8: =SUM(G69/$G$5) -> 1.1341897 | H8: =SUM(H69/$H$5) -> 1.1370323 | I8: =SUM(I69/$I$5) -> 0.91043529 | J8: =SUM(J69/$J$5) -> 1.0145797 | K8: =SUM(K69/$K$5) -> 1.1133803 | L8: =SUM(L69/$L$5) -> 1.0581091 | M8: =SUM(M69/$M$5) -> 1.0081851 | N8: =SUM(N69/$N$5) -> 1.0324569 | O8: =SUM(C8:N8)/COUNT(C8:N8) -> 1.0395127 | P8: =SUM(O8/$O$13) -> 0.028895738 | S8: =R8*12 -> 0
B9: Cost per LSU - Infrastructure Development | C9: =IFERROR(SUM(C78/$C$5),0) -> 0 | D9: =IFERROR(SUM(D78/$D$5),0) -> 0 | E9: =IFERROR(SUM(E78/$E$5),0) -> 0 | F9: =IFERROR(SUM(F78/$F$5),0) -> 0 | G9: =SUM(G78/$G$5) -> 0 | H9: =SUM(H78/$H$5) -> 0 | I9: =SUM(I78/$I$5) -> 0 | J9: =SUM(J78/$J$5) -> 0 | K9: =SUM(K78/$K$5) -> 0 | L9: =SUM(L78/$L$5) -> 0 | M9: =SUM(M78/$M$5) -> 0 | N9: =SUM(N78/$N$5) -> 0 | O9: =SUM(C9:N9)/COUNT(C9:N9) -> 0 | P9: =SUM(O9/$O$13) -> 0 | S9: =R9*12 -> 0
B10: Cost per LSU - Overheads | C10: =IFERROR(SUM(C104/$C$5),0) -> 10.770789 | D10: =IFERROR(SUM(D104/$C$5),0) -> 10.49544 | E10: =IFERROR(SUM(E104/$C$5),0) -> 10.442409 | F10: =IFERROR(SUM(F104/$C$5),0) -> 10.450217 | G10: =SUM(G104/$G$5) -> 11.128378 | H10: =SUM(H104/H$5) -> 11.382889 | I10: =SUM(I104/I$5) -> 10.145162 | J10: =SUM(J104/J$5) -> 10.652733 | K10: =SUM(K104/K$5) -> 11.318704 | L10: =SUM(L104/L$5) -> 11.06947 | M10: =SUM(M104/M$5) -> 10.84041 | N10: =SUM(N104/N$5) -> 25.569114 | O10: =SUM(C10:N10)/COUNT(C10:N10) -> 12.022143 | P10: =SUM(O10/$O$13) -> 0.33418419 | Q10: 2 | S10: =R10*12 -> 0
B11: Cost per LSU - Vehicle Costs | C11: =IFERROR((C185+C188)/C5,0) -> 0 | D11: =IFERROR((D185+D188)/D5,0) -> 0 | E11: =IFERROR((E185+E188)/E5,0) -> 0 | F11: =IFERROR((F185+F188)/F5,0) -> 0 | G11: =(G185+G188)/G5 -> 0 | H11: =(H185+H188)/H5 -> 0 | I11: =(I185+I188)/I5 -> 0 | J11: =(J185+J188)/J5 -> 0 | K11: =(K185+K188)/K5 -> 0 | L11: =(L185+L188)/L5 -> 0 | M11: =(M185+M188)/M5 -> 0 | N11: =(N185+N188)/N5 -> 0 | O11: =SUM(C11:N11)/COUNT(C11:N11) -> 0 | P11: =SUM(O11/$O$13) -> 0 | S11: =R11*12 -> 0
B12: Cost per LSU - Fixed Assets Depr. | C12: =IFERROR(C203/C5,0) -> 0 | D12: =IFERROR(D203/D5,0) -> 0 | E12: =IFERROR(E203/E5,0) -> 0 | F12: =IFERROR(F203/F5,0) -> 0 | G12: =G203/G5 -> 0 | H12: =H203/H5 -> 0 | I12: =I203/I5 -> 0 | J12: =J203/J5 -> 0 | K12: =K203/K5 -> 0 | L12: =L203/L5 -> 0 | M12: =M203/M5 -> 0 | N12: =N203/N5 -> 0 | O12: =SUM(C12:N12)/COUNT(C12:N12) -> 0 | P12: =SUM(O12/$O$13) -> 0 | R12: =SUM(O10:O11) -> 12.022143 | S12: =R12*12 -> 144.26571
B13: Total | C13: =SUM(C6:C11) -> 28.429595 | D13: =SUM(D6:D11) -> 25.518197 | E13: =SUM(E6:E11) -> 23.60487 | F13: =SUM(F6:F11) -> 24.805935 | G13: =SUM(G6:G11) -> 32.440957 | H13: =SUM(H6:H11) -> 44.846824 | I13: =SUM(I6:I11) -> 27.995215 | J13: =SUM(J6:J11) -> 32.344281 | ... N13: =SUM(N6:N11) -> 57.345814 | O13: =SUM(O6:O12) -> 35.974601 | P13: =SUM(P6:P12) -> 1 | Q13: 3 | R13: =SUM(O13) -> 35.974601 | S13: =R13*12 -> 431.69521 | U13: Break Even Calf Price
C14: =C13/$O$13 -> 0.79026853 | D14: =D13/$O$13 -> 0.70933926 | E14: =E13/$O$13 -> 0.65615376 | F14: =F13/$O$13 -> 0.68954026 | G14: =G13/$O$13 -> 0.90177393 | H14: =H13/$O$13 -> 1.2466246 | I14: =I13/$O$13 -> 0.77819391 | J14: =J13/$O$13 -> 0.89908658 | ... N14: =N13/$O$13 -> 1.5940639 | U14: =(S13/0.8)/0.75 -> 719.49202
O15: Total | P15: %
A16: Account | B16: Description | O16: Budget | P16: Budget
B17: Income | C17: =SUM(C18:C23) -> 0 | D17: =SUM(D18:D23) -> 0 | E17: =SUM(E18:E23) -> 0 | F17: =SUM(F18:F23) -> 0 | G17: =SUM(G18:G23) -> 12408 | H17: =SUM(H18:H23) -> 0 | I17: =SUM(I18:I23) -> 0 | J17: =SUM(J18:J23) -> 8800 | ... O17: =SUM(O18:O23) -> 44273 | P17: =IFERROR(SUM(P18:P23),0) -> 1
A18: 0500/000 | B18: Sales - Other | O18: =SUM(C18:N18) -> 0 | P18: =IFERROR(SUM(O18/$O$17),0) -> 0
A19: 1500/010 | B19: Sales - Cattle | C19: ='REVENUE ASSUMPTIONS'!G8 -> 0 | D19: ='REVENUE ASSUMPTIONS'!H8 -> 0 | E19: ='REVENUE ASSUMPTIONS'!I8 -> 0 | F19: ='REVENUE ASSUMPTIONS'!J8 -> 0 | G19: ='REVENUE ASSUMPTIONS'!K8 -> 12408 | H19: ='REVENUE ASSUMPTIONS'!L8 -> 0 | I19: ='REVENUE ASSUMPTIONS'!M8 -> 0 | J19: ='REVENUE ASSUMPTIONS'!N8 -> 8800 | ... N19: ='REVENUE ASSUMPTIONS'!R8 -> 11725 | O19: =SUM(C19:N19) -> 44273 | P19: =IFERROR(SUM(O19/$O$17),0) -> 1
A20: 2750/000 | B20: Interest Received | O20: =SUM(C20:N20) -> 0 | P20: =IFERROR(SUM(O20/$O$17),0) -> 0
A21: 2850/000 | B21: Bad Debts Recovered | O21: =SUM(C21:N21) -> 0 | P21: =IFERROR(SUM(O21/$O$17),0) -> 0
A23: 2900/000 | B23: Sundry Income | O23: =SUM(C23:N23) -> 0 | P23: =IFERROR(SUM(O23/$O$17),0) -> 0
B24: Cash Carried forward | C24: 10000
B25: Cash Flow | C25: =C24+C17-(C28+C34+C69+C78+C104+C152) -> 7192.5064 | D25: =C25+D17-(D28+D34+D69+D78+D104+D152) -> 4676.2295 | E25: =D25+E17-(E28+E34+E69+E78+E104+E152) -> 2351.6807 | F25: =E25+F17-(F28+F34+F69+F78+F104+F152) -> -87.361563 | G25: =F25+G17-(G28+G34+G69+G78+G104+G152) -> 9460.3623 | H25: =G25+H17-(H28+H34+H69+H78+H104+H152) -> 5516.1626 | I25: =H25+I17-(I28+I34+I69+I78+I104+I152) -> 2441.2362 | J25: =I25+J17-(J28+J34+J69+J78+J104+J152) -> 8053.2876 | K25: =J25+K17-(K28+K34+K69+K78+K104+K152) -> 15230.195 | ... N25: =M25+N17-(N28+N34+N69+N78+N104+N152) -> 12880.78
A27: Account | B27: Description | C27: =C28+C34+C69+C78+C104+C152 -> 2807.4936 | D27: =D28+D34+D69+D78+D104+D152 -> 2516.2769 | E27: =E28+E34+E69+E78+E104+E152 -> 2324.5489 | F27: =F28+F34+F69+F78+F104+F152 -> 2439.0422 | G27: =G28+G34+G69+G78+G104+G152 -> 2860.2761 | H27: =H28+H34+H69+H78+H104+H152 -> 3944.1997 | I27: =I28+I34+I69+I78+I104+I152 -> 3074.9264 | J27: =J28+J34+J69+J78+J104+J152 -> 3187.9486 | ... N27: =N28+N34+N69+N78+N104+N152 -> 5554.306 | O27: =SUM(O28+O34+O69+O78+O104+O152) -> 41392.22 | P27: =SUM(P28+P34+P69+P78+P104+P152) -> 1
A28: 1500/000 | B28: Operating Costs - Cattle | C28: =SUM(C29:C33) -> 0 | D28: =SUM(D29:D33) -> 0 | E28: =SUM(E29:E33) -> 0 | F28: =SUM(F29:F33) -> 0 | G28: =SUM(G29:G33) -> 620.4 | H28: =SUM(H29:H33) -> 0 | I28: =SUM(I29:I33) -> 0 | J28: =SUM(J29:J33) -> 440 | ... N28: =SUM(N29:N33) -> 586.25 | O28: =SUM(C28:N28) -> 2213.65 | P28: =SUM(O28/O27) -> 0.053479857 | R28: =IFERROR(AVERAGE(C28:N28)/AVERAGE($C$5:$N$5),"") -> 1.9109252
A29: 1500/010 | B29: Cattle - Purchases | O29: =SUM(C29:N29) -> 0 | P29: =SUM(O29/$O$27) -> 0 | R29: =IFERROR(AVERAGE(C29:N29)/AVERAGE($C$5:$N$5),"")
A30: 1500/060 | B30: Cattle - Permits | O30: =SUM(C30:N30) -> 0 | P30: =SUM(O30/$O$27) -> 0 | R30: =IFERROR(AVERAGE(C30:N30)/AVERAGE($C$5:$N$5),"")
A31: 1500/070 | B31: Cattle - Partnership Fee | C31: =2%*C19 -> 0 | D31: =2%*D19 -> 0 | E31: =2%*E19 -> 0 | F31: =2%*F19 -> 0 | G31: =2%*G19 -> 248.16 | H31: =2%*H19 -> 0 | I31: =2%*I19 -> 0 | J31: =2%*J19 -> 176 | ... N31: =2%*N19 -> 234.5 | O31: =SUM(C31:N31) -> 885.46 | P31: =SUM(O31/$O$27) -> 0.021391943 | R31: =IFERROR(AVERAGE(C31:N31)/AVERAGE($C$5:$N$5),"") -> 0.76437009
A32: 1500/099 | B32: Cattle - Other Costs | O32: =SUM(C32:N32) -> 0 | P32: =SUM(O32/$O$27) -> 0 | R32: =IFERROR(AVERAGE(C32:N32)/AVERAGE($C$5:$N$5),"")
A33: 1500/500 | B33: Cattle - Commission on Sales | C33: =3%*C19 -> 0 | D33: =3%*D19 -> 0 | E33: =3%*E19 -> 0 | F33: =3%*F19 -> 0 | G33: =3%*G19 -> 372.24 | H33: =3%*H19 -> 0 | I33: =3%*I19 -> 0 | J33: =3%*J19 -> 264 | ... N33: =3%*N19 -> 351.75 | O33: =SUM(C33:N33) -> 1328.19 | P33: =SUM(O33/$O$27) -> 0.032087914 | R33: =IFERROR(AVERAGE(C33:N33)/AVERAGE($C$5:$N$5),"") -> 1.1465551
A34: 2300/000 | B34: Farm Costs | C34: =SUM(C35+C44+C48+C54+C58) -> 1643.8512 | D34: =SUM(D35+D44+D48+D54+D58) -> 1379.826 | E34: =SUM(E35+E44+E48+E54+E58) -> 1193.3349 | F34: =SUM(F35+F44+F48+F54+F58) -> 1307.0572 | G34: =SUM(G35+G44+G48+G54+G58) -> 1158.7018 | H34: =SUM(H35+H44+H48+H54+H58) -> 2843.0945 | I34: =SUM(I35+I44+I48+I54+I58) -> 1860.6065 | J34: =SUM(J35+J44+J48+J54+J58) -> 1597.9835 | ... N34: =SUM(N35+N44+N48+N54+N58) -> 2391.5251 | O34: =SUM(C34:N34) -> 24054.179 | P34: =SUM(O34/O27) -> 0.58112803 | R34: =IFERROR(AVERAGE(C34:N34)/AVERAGE($C$5:$N$5),"") -> 20.764682
A35: 2300/000 | B35: Farm Costs - General | C35: =SUM(C36:C43) -> 0 | D35: =SUM(D36:D43) -> 0 | E35: =SUM(E36:E43) -> 0 | F35: =SUM(F36:F43) -> 0 | G35: =SUM(G36:G43) -> 0 | H35: =SUM(H36:H43) -> 0 | I35: =SUM(I36:I43) -> 0 | J35: =SUM(J36:J43) -> 0 | ... N35: =SUM(N36:N43) -> 0 | O35: =SUM(C35:N35) -> 0 | R35: =IFERROR(AVERAGE(C35:N35)/AVERAGE($C$5:$N$5),"") -> 0
A36: 2300/004 | B36: Farm Costs - Transport Cattle | O36: =SUM(C36:N36) -> 0 | P36: =SUM(O36/$O$27) -> 0 | R36: =IFERROR(AVERAGE(C36:N36)/AVERAGE($C$5:$N$5),"")
A37: 2300/005 | B37: Farm Costs - Transport Stock Feed | O37: =SUM(C37:N37) -> 0 | P37: =SUM(O37/$O$27) -> 0 | R37: =IFERROR(AVERAGE(C37:N37)/AVERAGE($C$5:$N$5),"")
A38: 2300/006 | B38: Farm Costs - Transport Other | O38: =SUM(C38:N38) -> 0 | P38: =SUM(O38/$O$27) -> 0 | R38: =IFERROR(AVERAGE(C38:N38)/AVERAGE($C$5:$N$5),"")
A39: 2300/010 | B39: Farm Costs - Electricity | O39: =SUM(C39:N39) -> 0 | P39: =SUM(O39/$O$27) -> 0 | R39: =IFERROR(AVERAGE(C39:N39)/AVERAGE($C$5:$N$5),"")
A40: 2300/040 | B40: Farm Costs - Chemicals | O40: =SUM(C40:N40) -> 0 | P40: =SUM(O40/$O$27) -> 0 | R40: =IFERROR(AVERAGE(C40:N40)/AVERAGE($C$5:$N$5),"")
A41: 2300/100 | B41: Farm Costs - Hire of Equipment | O41: =SUM(C41:N41) -> 0 | P41: =SUM(O41/$O$27) -> 0 | R41: =IFERROR(AVERAGE(C41:N41)/AVERAGE($C$5:$N$5),"")
A42: 2300/220 | B42: Farm Costs - Fertilisers | O42: =SUM(C42:N42) -> 0 | P42: =SUM(O42/$O$27) -> 0 | R42: =IFERROR(AVERAGE(C42:N42)/AVERAGE($C$5:$N$5),"")
A43: 2300/300 | B43: Farm Costs - Small Tools | O43: =SUM(C43:N43) -> 0 | P43: =SUM(O43/$O$27) -> 0 | R43: =IFERROR(AVERAGE(C43:N43)/AVERAGE($C$5:$N$5),"")
...

Sheet Cost Codes INUNWA
B1: Operational Cost Codes | F1: Jan | I1: Feb | L1: Mar | O1: Apr | R1: May | U1: Jun | X1: Jul | AA1: Aug | AD1: Sep | AG1: Oct | AJ1: Nov | AM1: Dec | AP1: TOTAL
F2: Budgeted | G2: Actual | H2: Variance | I2: Budgeted | J2: Actual | K2: Variance | L2: Budgeted | M2: Actual | N2: Variance | O2: Budgeted | P2: Actual | Q2: Variance | R2: Budgeted | S2: Actual | T2: Variance | U2: Budgeted | V2: Actual | W2: Variance | X2: Budgeted | Y2: Actual | Z2: Variance | AA2: Budgeted | AB2: Actual | AC2: Variance | AD2: Budgeted | AE2: Actual | AF2: Variance | AG2: Budgeted | AH2: Actual | AI2: Variance | AJ2: Budgeted | AK2: Actual | AL2: Variance | AM2: Budgeted | AN2: Actual | AO2: Variance | AP2: Budgeted | AQ2: Actual YTD | AR2: Variance YTD | AU2: overheads
AU3: people
E4: Total Running Costs | F4: =F13+F20+F36+F41+F47+F53+F65+F72+F82+F92 -> 5390.9312 | G4: =G13+G20+G36+G41+G47+G53+G65+G72+G82+G92 -> 466.73025 | H4: =H13+H20+H36+H41+H47+H53+H65+H72+H82+H92 -> 466.73025 | I4: =I13+I20+I36+I41+I47+I53+I65+I72+I82+I92 -> 4413.8769 | J4: =J13+J20+J36+J41+J47+J53+J65+J72+J82+J92 -> 466.73025 | K4: =K13+K20+K36+K41+K47+K53+K65+K72+K82+K92 -> 466.73025 | L4: =L13+L20+L36+L41+L47+L53+L65+L72+L82+L92 -> 3885.7349 | M4: =M13+M20+M36+M41+M47+M53+M65+M72+M82+M92 -> 552.00746 | ... AM4: =AM13+AM20+AM36+AM41+AM47+AM53+AM65+AM72+AM82+AM92 -> 5346.8151 | AN4: =AN13+AN20+AN36+AN41+AN47+AN53+AN65+AN72+AN82 -> 0 | AO4: =AO13+AO20+AO36+AO41+AO47+AO53+AO65+AO72+AO82 -> 0 | AP4: =AP13+AP20+AP36+AP41+AP47+AP53+AP65+AP72+AP82+AP92 -> 65680.629 | AS4: =AP4/$AP$4 -> 1 | AU4: maintainance
AU5: property
E6: Income | F6: =SUM(F8:F12) -> 0 | G6: =SUM(G7:G12) -> 0 | H6: =SUM(H7:H12) -> 0 | I6: =SUM(I7:I12) -> 0 | J6: =SUM(J7:J12) -> 0 | K6: =SUM(K7:K12) -> 0 | L6: =SUM(L7:L12) -> 0 | M6: =SUM(M7:M12) -> 0 | N6: =SUM(N7:N12) -> 0 | ... AO6: =SUM(AO7:AO12) -> 0 | AP6: =SUM(F6,I6,L6,O6,R6,U6,X6,AA6,AD6,AG6,AJ6,AM6) -> 44273 | AS6: =(AP6/$AP$6) -> 1 | AU6: indirect
B7: 0500/000 | D7: Income | E7: Sales - Other | AP7: =SUM(F7,I7,L7,O7,R7,U7,X7,AA7,AD7,AG7,AJ7,AM7) -> 0 | AS7: =(AP7/$AP$6) -> 0 | AU7: admin
B8: 1000/000 | D8: Income | E8: Sales - Cattle | F8: ='REVENUE ASSUMPTIONS'!G8 -> 0 | I8: ='REVENUE ASSUMPTIONS'!H8 -> 0 | L8: ='REVENUE ASSUMPTIONS'!I8 -> 0 | O8: ='REVENUE ASSUMPTIONS'!J8 -> 0 | R8: ='REVENUE ASSUMPTIONS'!K8 -> 12408 | U8: ='REVENUE ASSUMPTIONS'!L8 -> 0 | X8: ='REVENUE ASSUMPTIONS'!M8 -> 0 | AA8: ='REVENUE ASSUMPTIONS'!N8 -> 8800 | AD8: ='REVENUE ASSUMPTIONS'!O8 -> 11340 | AG8: ='REVENUE ASSUMPTIONS'!P8 -> 0 | AJ8: ='REVENUE ASSUMPTIONS'!Q8 -> 0 | AM8: ='REVENUE ASSUMPTIONS'!R8 -> 11725 | AP8: =SUM(F8,I8,L8,O8,R8,U8,X8,AA8,AD8,AG8,AJ8,AM8) -> 44273 | AS8: =(AP8/$AP$6) -> 1
B9: 2750/000 | D9: Income | E9: Interest Received | AP9: =SUM(F9,I9,L9,O9,R9,U9,X9,AA9,AD9,AG9,AJ9,AM9) -> 0 | AS9: =(AP9/$AP$6) -> 0 | AU9: direct
B10: 2850/000 | D10: Income | E10: Bad Debts Recovered | AP10: =SUM(F10,I10,L10,O10,R10,U10,X10,AA10,AD10,AG10,AJ10,AM10) -> 0 | AS10: =(AP10/$AP$6) -> 0 | AU10: vets and meds
B11: 2900/000 | D11: Income | E11: Sundry Income | AP11: =SUM(F11,I11,L11,O11,R11,U11,X11,AA11,AD11,AG11,AJ11,AM11) -> 0 | AS11: =(AP11/$AP$6) -> 0 | AU11: feed
AU12: salaries and wages
B13: 1500/000 | E13: Operating Costs - Cattle | F13: =SUM(F14:F18) -> 0 | G13: =SUM(G14:G18) -> 0 | H13: =SUM(H14:H18) -> 0 | I13: =SUM(I14:I18) -> 0 | J13: =SUM(J14:J18) -> 0 | K13: =SUM(K14:K18) -> 0 | L13: =SUM(L14:L18) -> 0 | M13: =SUM(M14:M18) -> 0 | ... AM13: =SUM(AM14:AM18) -> 703.5 | AP13: =SUM(F13,I13,L13,O13,R13,U13,X13,AA13,AD13,AG13,AJ13,AM13) -> 2671.38 | AS13: =AP13/$AP$4 -> 0.040672266
B14: 1500/010 | D14: Cattle | E14: Cattle - Purchases | AP14: =SUM(F14,I14,L14,O14,R14,U14,X14,AA14,AD14,AG14,AJ14,AM14) -> 0 | AS14: =AP14/$AP$4 -> 0
B15: 1500/060 | D15: Admin | E15: Cattle - Permits | R15: 5 | X15: 5 | AA15: 5 | AP15: =SUM(F15,I15,L15,O15,R15,U15,X15,AA15,AD15,AG15,AJ15,AM15) -> 15 | AS15: =AP15/$AP$4 -> 0.00022837784
B16: 1500/070 | D16: Cost of Sales | E16: Cattle - Partnership Fee | F16: =F8*0.035 -> 0 | G16: =G8*0.035 -> 0 | H16: =H8*0.035 -> 0 | I16: =I8*0.035 -> 0 | J16: =J8*0.035 -> 0 | K16: =K8*0.035 -> 0 | L16: =L8*0.035 -> 0 | M16: =M8*0.035 -> 0 | ... AM16: =AM8*0.035 -> 410.375 | AP16: =SUM(F16,I16,L16,O16,R16,U16,X16,AA16,AD16,AG16,AJ16,AM16) -> 1549.555 | AS16: =AP16/$AP$4 -> 0.023592268
B17: 1500/099 | D17: Cattle | E17: Cattle - Other Costs | AP17: =SUM(F17,I17,L17,O17,R17,U17,X17,AA17,AD17,AG17,AJ17,AM17) -> 0 | AS17: =AP17/$AP$4 -> 0
B18: 1500/500 | D18: Cost of Sales | E18: Cattle - Commission on Sales | F18: =0.025*F8 -> 0 | G18: =0.025*G8 -> 0 | H18: =0.025*H8 -> 0 | I18: =0.025*I8 -> 0 | J18: =0.025*J8 -> 0 | K18: =0.025*K8 -> 0 | L18: =0.025*L8 -> 0 | M18: =0.025*M8 -> 0 | ... AM18: =0.025*AM8 -> 293.125 | AN18: =0.072*AN8 -> 0 | AO18: =0.072*AO8 -> 0 | AP18: =SUM(F18,I18,L18,O18,R18,U18,X18,AA18,AD18,AG18,AJ18,AM18) -> 1106.825 | AS18: =AP18/$AP$4 -> 0.01685162
B20: 2300/000 | E20: Farm Costs - General | F20: =SUM(F21:F34) -> 435 | G20: =SUM(G21:G34) -> 0 | H20: =SUM(H21:H34) -> 0 | I20: =SUM(I21:I34) -> 753 | J20: =SUM(J21:J34) -> 0 | K20: =SUM(K21:K34) -> 0 | L20: =SUM(L21:L34) -> 435 | M20: =SUM(M21:M34) -> 0 | ... AM20: =SUM(AM21:AM34) -> 435 | AP20: =SUM(F20,I20,L20,O20,R20,U20,X20,AA20,AD20,AG20,AJ20,AM20) -> 8290 | AS20: =AP20/$AP$4 -> 0.12621682
B21: 2300/004 | D21: Transport | E21: Farm Costs - Transport Cattle | I21: =1.5*212 -> 318 | U21: =1.5*212*2 -> 636 | AA21: =212*1.5*2 -> 636 | AP21: =SUM(F21,I21,L21,O21,R21,#REF!,U21,AA21,AD21,AG21,AJ21,AM21) -> #REF! | AS21: =AP21/$AP$4 -> #REF!
B22: 2300/006 | D22: Transport | E22: Farm Costs - Transport Other | AP22: =SUM(F22,I22,L22,O22,R22,U22,X22,AA22,AD22,AG22,AJ22,AM22) -> 0 | AS22: =AP22/$AP$4 -> 0
B23: 2300/010 | E23: Farm Costs - Electricity | AP23: =SUM(F23,I23,L23,O23,R23,U23,X23,AA23,AD23,AG23,AJ23,AM23) -> 0 | AS23: =AP23/$AP$4 -> 0
B24: 2300/040 | E24: Farm Costs - Chemicals | AP24: =SUM(F24,I24,L24,O24,R24,U24,X24,AA24,AD24,AG24,AJ24,AM24) -> 0 | AS24: =AP24/$AP$4 -> 0
B25: 2300/220 | E25: Farm Costs - Fertilisers | AP25: =SUM(F25,I25,L25,O25,R25,U25,X25,AA25,AD25,AG25,AJ25,AM25) -> 0 | AS25: =AP25/$AP$4 -> 0
B26: 2300/300 | D26: R&M | E26: Farm Costs - Small Tools | F26: 5 | I26: 5 | L26: 5 | O26: 5 | R26: 5 | U26: 5 | X26: 5 | AA26: 5 | AD26: 5 | AG26: 5 | AJ26: 5 | AM26: 5 | AP26: =SUM(F26,I26,L26,O26,R26,U26,X26,AA26,AD26,AG26,AJ26,AM26) -> 60 | AS26: =AP26/$AP$4 -> 0.00091351135
B27: 2300/060 | D27: R&M | E27: Farm Costs - Buildings Maintenance | F27: 10 | I27: 10 | L27: 10 | O27: 10 | R27: 10 | U27: 10 | X27: 10 | AA27: 10 | AD27: 10 | AG27: 10 | AJ27: 10 | AM27: 10 | AP27: =SUM(F27,I27,L27,O27,R27,U27,X27,AA27,AD27,AG27,AJ27,AM27) -> 120 | AS27: =AP27/$AP$4 -> 0.0018270227
B28: 2300/070 | D28: R&M | E28: Farm Costs - Farm Machinery Maintenance | F28: 250 | I28: 250 | L28: 250 | O28: 250 | R28: 250 | U28: 250 | X28: 250 | AA28: 250 | AD28: 250 | AG28: 250 | AJ28: 250 | AM28: 250 | AP28: =SUM(F28,I28,L28,O28,R28,U28,X28,AA28,AD28,AG28,AJ28,AM28) -> 3000 | AS28: =AP28/$AP$4 -> 0.045675567
B29: 2300/080 | D29: R&M | E29: Farm Costs - Motor Vehicle Maintenance | F29: 150 | I29: 150 | L29: 150 | O29: 150 | R29: 150 | U29: 150 | X29: 150 | AA29: 150 | AD29: 150 | AG29: 150 | AJ29: 150 | AM29: 150 | AP29: =SUM(F29,I29,L29,O29,R29,U29,X29,AA29,AD29,AG29,AJ29,AM29) -> 1800 | AS29: =AP29/$AP$4 -> 0.02740534
B30: 2300/100 | D30: R&M | E30: Farm Costs - Hire of Equipment | AP30: =SUM(F30,I30,L30,O30,R30,U30,X30,AA30,AD30,AG30,AJ30,AM30) -> 0 | AS30: =AP30/$AP$4 -> 0
B31: 2500/600 | D31: R&M | E31: Farm Costs - Water & Pumping - R&M | F31: 10 | I31: 10 | L31: 10 | O31: 10 | R31: 150 | U31: 10 | X31: 10 | AA31: 10 | AD31: 10 | AG31: 10 | AJ31: 150 | AM31: 10 | AP31: =SUM(F31,I31,L31,O31,R31,U31,X31,AA31,AD31,AG31,AJ31,AM31) -> 400 | AS31: =AP31/$AP$4 -> 0.0060900756
B32: 2300/501 | D32: R&M | E32: Farm Costs - Fencing & Handling Facility - R&M | AP32: =SUM(F32,I32,L32,O32,R32,U32,X32,AA32,AD32,AG32,AJ32,AM32) -> 0 | AS32: =AP32/$AP$4 -> 0
B33: 2500/040 | D33: R&M | E33: Farm Costs - Workshop Consumables | F33: 10 | I33: 10 | L33: 10 | O33: 10 | R33: 10 | U33: 10 | X33: 10 | AA33: 10 | AD33: 10 | AG33: 10 | AJ33: 10 | AM33: 10 | AP33: =SUM(F33,I33,L33,O33,R33,U33,X33,AA33,AD33,AG33,AJ33,AM33) -> 120 | AS33: =AP33/$AP$4 -> 0.0018270227
B34: 2300/085 | D34: R&M | E34: Farm Costs - Tyres | F34: 0 | I34: 0 | L34: 0 | O34: 0 | R34: 1200 | U34: 0 | X34: 0 | AA34: 0 | AD34: 0 | AG34: 0 | AJ34: 0 | AM34: 0 | AP34: =SUM(F34,I34,L34,O34,R34,U34,X34,AA34,AD34,AG34,AJ34,AM34) -> 1200 | AS34: =AP34/$AP$4 -> 0.018270227
B36: 2300/600 | E36: Farm Costs - Fuel & Lubes | F36: =SUM(F37:F39) -> 550 | G36: =SUM(G37:G39) -> 0 | H36: =SUM(H37:H39) -> 0 | I36: =SUM(I37:I39) -> 550 | J36: =SUM(J37:J39) -> 0 | K36: =SUM(K37:K39) -> 0 | L36: =SUM(L37:L39) -> 550 | M36: =SUM(M37:M39) -> 0 | ... AM36: =SUM(AM37:AM39) -> 550 | AP36: =SUM(F36,I36,L36,O36,R36,U36,X36,AA36,AD36,AG36,AJ36,AM36) -> 7000 | AS36: =AP36/$AP$4 -> 0.10657632
B37: 2300/601 | D37: Fuel | E37: Farm Costs - Fuel - Diesel | F37: 300 | I37: 300 | L37: 300 | O37: 300 | R37: 500 | U37: 500 | X37: 300 | AA37: 300 | AD37: 300 | AG37: 300 | AJ37: 300 | AM37: 300 | AP37: =SUM(F37,I37,L37,O37,R37,U37,X37,AA37,AD37,AG37,AJ37,AM37) -> 4000 | AS37: =AP37/$AP$4 -> 0.060900756
B38: 2300/602 | D38: Fuel | E38: Farm Costs - Fuel - Petrol | F38: 200 | I38: 200 | L38: 200 | O38: 200 | R38: 200 | U38: 200 | X38: 200 | AA38: 200 | AD38: 200 | AG38: 200 | AJ38: 200 | AM38: 200 | AP38: =SUM(F38,I38,L38,O38,R38,U38,X38,AA38,AD38,AG38,AJ38,AM38) -> 2400 | AS38: =AP38/$AP$4 -> 0.036540454
B39: 2300/603 | D39: Fuel | E39: Farm Costs - Fuel - Oil & Lubrication | F39: 50 | I39: 50 | L39: 50 | O39: 50 | R39: 50 | U39: 50 | X39: 50 | AA39: 50 | AD39: 50 | AG39: 50 | AJ39: 50 | AM39: 50 | AP39: =SUM(F39,I39,L39,O39,R39,U39,X39,AA39,AD39,AG39,AJ39,AM39) -> 600 | AS39: =AP39/$AP$4 -> 0.0091351135
B41: 2300/700 | E41: Farm Costs - Veterinary Costs | F41: =SUM(F42:F45) -> 552.43545 | G41: =SUM(G42:G45) -> 466.73025 | H41: =SUM(H42:H45) -> 466.73025 | I41: =SUM(I42:I45) -> 375.80391 | J41: =SUM(J42:J45) -> 466.73025 | K41: =SUM(K42:K45) -> 466.73025 | L41: =SUM(L42:L45) -> 103.0433 | M41: =SUM(M42:M45) -> 552.00746 | ... AM41: =SUM(AM42:AM45) -> 106.6093 | AP41: =SUM(F41,I41,L41,O41,R41,U41,X41,AA41,AD41,AG41,AJ41,AM41) -> 2670.4853 | AS41: =AP41/$AP$4 -> 0.040658644
B42: 2300/701 | D42: Vets and Meds | E42: Farm Costs - Veterinary Vaccination | F42: =SUM('VET & MED Costs'!$E$41:$H$41) -> 0 | G42: =SUM('VET & MED Costs'!$E$41:$H$41) -> 0 | H42: =SUM('VET & MED Costs'!$E$41:$H$41) -> 0 | I42: =SUM('VET & MED Costs'!$E$42:$H$42) -> 272.50236 | J42: =SUM('VET & MED Costs'!$E$41:$H$41) -> 0 | K42: =SUM('VET & MED Costs'!$E$41:$H$41) -> 0 | L42: =SUM('VET & MED Costs'!$E$43:$H$43) -> 0 | M42: =SUM('VET & MED Costs'!$E$41:$H$41) -> 0 | N42: =SUM('VET & MED Costs'!$E$41:$H$41) -> 0 | O42: =SUM('VET & MED Costs'!$E$44:$H$44) -> 147.08986 | P42: =SUM('VET & MED Costs'!$E$41:$H$41) -> 0 | Q42: =SUM('VET & MED Costs'!$E$41:$H$41) -> 0 | R42: =SUM('VET & MED Costs'!$E$45:$H$45) -> 0 | S42: =SUM('VET & MED Costs'!$E$41:$H$41) -> 0 | T42: =SUM('VET & MED Costs'!$E$41:$H$41) -> 0 | U42: =SUM('VET & MED Costs'!$E$46:$H$46) -> 0 | V42: =SUM('VET & MED Costs'!$E$41:$H$41) -> 0 | W42: =SUM('VET & MED Costs'!$E$41:$H$41) -> 0 | X42: =SUM('VET & MED Costs'!$E$47:$H$47) -> 167.66136 | Y42: =SUM('VET & MED Costs'!$E$41:$H$41) -> 0 | Z42: =SUM('VET & MED Costs'!$E$41:$H$41) -> 0 | AA42: =SUM('VET & MED Costs'!$E$48:$H$48) -> 0 | AB42: =SUM('VET & MED Costs'!$E$41:$H$41) -> 0 | AC42: =SUM('VET & MED Costs'!$E$41:$H$41) -> 0 | AD42: =SUM('VET & MED Costs'!$E$49:$H$49) -> 0 | AE42: =SUM('VET & MED Costs'!$E$41:$H$41) -> 0 | AF42: =SUM('VET & MED Costs'!$E$41:$H$41) -> 0 | AG42: =SUM('VET & MED Costs'!$E$50:$H$50) -> 202.56694 | AH42: =SUM('VET & MED Costs'!$E$41:$H$41) -> 0 | AI42: =SUM('VET & MED Costs'!$E$41:$H$41) -> 0 | AJ42: =SUM('VET & MED Costs'!$E$51:$H$51) -> 0 | AK42: =SUM('VET & MED Costs'!$E$41:$H$41) -> 0 | AL42: =SUM('VET & MED Costs'!$E$41:$H$41) -> 0 | AM42: =SUM('VET & MED Costs'!$E$52:$H$52) -> 0 | AP42: =SUM(F42,I42,L42,O42,R42,U42,X42,AA42,AD42,AG42,AJ42,AM42) -> 789.82052 | AS42: =AP42/$AP$4 -> 0.012025167
B43: 2300/702 | D43: Vets and Meds | E43: Farm Costs - Veterinary Dip | F43: ='VET & MED Costs'!C41 -> 85.7052 | I43: ='VET & MED Costs'!C42 -> 85.490937 | L43: ='VET & MED Costs'!$C$43 -> 85.27721 | M43: ='VET & MED Costs'!$C$43 -> 85.27721 | N43: ='VET & MED Costs'!$C$43 -> 85.27721 | O43: ='VET & MED Costs'!$C$44 -> 85.064017 | P43: ='VET & MED Costs'!$C$43 -> 85.27721 | Q43: ='VET & MED Costs'!$C$43 -> 85.27721 | R43: ='VET & MED Costs'!$C$45 -> 79.091357 | S43: ='VET & MED Costs'!$C$43 -> 85.27721 | T43: ='VET & MED Costs'!$C$43 -> 85.27721 | U43: ='VET & MED Costs'!$C$46 -> 78.893628 | V43: ='VET & MED Costs'!$C$43 -> 85.27721 | W43: ='VET & MED Costs'!$C$43 -> 85.27721 | X43: ='VET & MED Costs'!$C$47 -> 78.696394 | Y43: ='VET & MED Costs'!$C$43 -> 85.27721 | Z43: ='VET & MED Costs'!$C$43 -> 85.27721 | AA43: ='VET & MED Costs'!$C$48 -> 67.939653 | AB43: ='VET & MED Costs'!$C$43 -> 85.27721 | AC43: ='VET & MED Costs'!$C$43 -> 85.27721 | AD43: ='VET & MED Costs'!$C$49 -> 60.089804 | AE43: ='VET & MED Costs'!$C$43 -> 85.27721 | AF43: ='VET & MED Costs'!$C$43 -> 85.27721 | AG43: ='VET & MED Costs'!$C$50 -> 71.738427 | AH43: ='VET & MED Costs'!$C$43 -> 85.27721 | AI43: ='VET & MED Costs'!$C$43 -> 85.27721 | AJ43: ='VET & MED Costs'!$C$51 -> 83.357929 | AK43: ='VET & MED Costs'!$C$43 -> 85.27721 | AL43: ='VET & MED Costs'!$C$43 -> 85.27721 | AM43: ='VET & MED Costs'!$C$52 -> 88.228382 | AP43: =SUM(F43,I43,L43,O43,R43,U43,X43,AA43,AD43,AG43,AJ43,AM43) -> 949.57294 | AS43: =AP43/$AP$4 -> 0.014457428
...

Sheet Stock Numbers
B1: COMBINED MONTHLY COMMERCIAL LIVESTOCK RETURN
B2: Year | C2: 2026
B3: LSU | C3: 1 | D3: 0.8 | E3: 0.7 | F3: 0.5 | G3: 0.7 | H3: 0.5 | I3: 0.2 | L3: Mortality | M3: =M4/12 -> 0.0025 | N3: Calving% | O3: 0.85
B4: Description | C4: BULLS | D4: COWS | E4: HEIFERS | G4: STEERS | I4: CALVES | J4: TOTAL | M4: 0.03
C5: Mature Stud Bulls | D5: Breeding Cows | E5: Bulling Heifers | F5: Weaner Heifers | G5: Feeder Steers | H5: Weaner Steers | I5: Calves | J5: CATTLE
B6: C/F Total Inc Missing from previous year | C6: 4 | D6: 100 | E6: 0 | F6: 0 | G6: 0 | H6: 0 | I6: 75 | J6: =SUM(C6:I6) -> 179
B7: Born | J7: =SUM(C7:I7) -> 0
B8: Purchased | J8: =SUM(C8:I8) -> 0
B9: Died | C9: =C6*$M$3 -> 0.01 | D9: =D6*$M$3 -> 0.25 | E9: =E6*$M$3 -> 0 | F9: =F6*$M$3 -> 0 | G9: =G6*$M$3 -> 0 | H9: =H6*$M$3 -> 0 | I9: =I6*$M$3 -> 0.1875 | J9: =SUM(C9:I9) -> 0.4475
B10: Sold Internal | J10: =SUM(C10:I10) -> 0
B11: Sold External | J11: =SUM(C11:I11) -> 0
B12: Slaughtered / Destroyed | J12: =SUM(C12:I12) -> 0
B13: Stolen | J13: =SUM(C13:I13) -> 0
B14: Reclassified In | J14: =SUM(C14:I14) -> 0
B15: Reclassified Out | J15: =SUM(C15:I15) -> 0
B16: Missing | J16: =SUM(C16:I16) -> 0
B17: Actual Count On The Ranch | C17: =SUM(C6+C7+C8-C9-C10-C11-C12-C13+C14-C15-C16) -> 3.99 | D17: =SUM(D6+D7+D8-D9-D10-D11-D12-D13+D14-D15-D16) -> 99.75 | E17: =SUM(E6+E7+E8-E9-E10-E11-E12-E13+E14-E15-E16) -> 0 | F17: =SUM(F6+F7+F8-F9-F10-F11-F12-F13+F14-F15-F16) -> 0 | G17: =SUM(G6+G7+G8-G9-G10-G11-G12-G13+G14-G15-G16) -> 0 | H17: =SUM(H6+H7+H8-H9-H10-H11-H12-H13+H14-H15-H16) -> 0 | I17: =SUM(I6+I7+I8-I9-I10-I11-I12-I13+I14-I15-I16) -> 74.8125 | J17: =SUM(J6+J7+J8-J9-J10-J11-J12-J13+J14-J15-J16) -> 178.5525
B18: Adjustment | J18: =SUM(C18:I18) -> 0
B19: LSU | C19: =C17*C$3 -> 3.99 | D19: =D17*D$3 -> 79.8 | E19: =E17*E$3 -> 0 | F19: =F17*F$3 -> 0 | G19: =G17*G$3 -> 0 | H19: =H17*H$3 -> 0 | I19: =I17*I$3 -> 14.9625 | J19: =SUM(C19:I19) -> 98.7525
B20: January | C20: =SUM(C16+C17+C18) -> 3.99 | D20: =SUM(D16+D17+D18) -> 99.75 | E20: =SUM(E16+E17+E18) -> 0 | F20: =SUM(F16+F17+F18) -> 0 | G20: =SUM(G16+G17+G18) -> 0 | H20: =SUM(H16+H17+H18) -> 0 | I20: =SUM(I16+I17+I18) -> 74.8125 | J20: =SUM(J16+J17+J18) -> 178.5525
B21: C/F Total Inc Missing from previous month | C21: =SUM(C20) -> 3.99 | D21: =SUM(D20) -> 99.75 | E21: =SUM(E20) -> 0 | F21: =SUM(F20) -> 0 | G21: =SUM(G20) -> 0 | H21: =SUM(H20) -> 0 | I21: =SUM(I20) -> 74.8125 | J21: =SUM(J20) -> 178.5525
B22: Born | J22: =SUM(C22:I22) -> 0
B23: Purchased | J23: =SUM(C23:I23) -> 0
B24: Died | C24: =C21*$M$3 -> 0.009975 | D24: =D21*$M$3 -> 0.249375 | E24: =E21*$M$3 -> 0 | F24: =F21*$M$3 -> 0 | G24: =G21*$M$3 -> 0 | H24: =H21*$M$3 -> 0 | I24: =I21*$M$3 -> 0.18703125 | J24: =SUM(C24:I24) -> 0.44638125
B25: Sold Internal | J25: =SUM(C25:I25) -> 0
B26: Sold External | J26: =SUM(C26:I26) -> 0
B27: Slaughtered / Destroyed | J27: =SUM(C27:I27) -> 0
B28: Stolen | J28: =SUM(C28:I28) -> 0
B29: Reclassified In | J29: =SUM(C29:I29) -> 0
B30: Reclassified Out | J30: =SUM(C30:I30) -> 0
B31: Missing | J31: =SUM(C31:I31) -> 0
B32: Total Including Missing | C32: =SUM(C21+C22+C23-C24-C25-C26-C27-C28+C29-C30) -> 3.980025 | D32: =SUM(D21+D22+D23-D24-D25-D26-D27-D28+D29-D30) -> 99.500625 | E32: =SUM(E21+E22+E23-E24-E25-E26-E27-E28+E29-E30) -> 0 | F32: =SUM(F21+F22+F23-F24-F25-F26-F27-F28+F29-F30) -> 0 | G32: =SUM(G21+G22+G23-G24-G25-G26-G27-G28+G29-G30) -> 0 | H32: =SUM(H21+H22+H23-H24-H25-H26-H27-H28+H29-H30) -> 0 | I32: =SUM(I21+I22+I23-I24-I25-I26-I27-I28+I29-I30) -> 74.625469 | J32: =SUM(C32:I32) -> 178.10612
B33: Actual Count On The Ranch | J33: =SUM(C33:I33) -> 0
B34: Variance | C34: =SUM(C32-C33) -> 3.980025 | D34: =SUM(D32-D33) -> 99.500625 | E34: =SUM(E32-E33) -> 0 | F34: =SUM(F32-F33) -> 0 | G34: =SUM(G32-G33) -> 0 | H34: =SUM(H32-H33) -> 0 | I34: =SUM(I32-I33) -> 74.625469 | J34: =SUM(C34:I34) -> 178.10612
B35: Adjustment-(GM use only) | J35: =SUM(C35:I35) -> 0
B36: LSU | C36: =C32*C$3 -> 3.980025 | D36: =D32*D$3 -> 79.6005 | E36: =E32*E$3 -> 0 | F36: =F32*F$3 -> 0 | G36: =G32*G$3 -> 0 | H36: =H32*H$3 -> 0 | I36: =I32*I$3 -> 14.925094 | J36: =SUM(C36:I36) -> 98.505619
B37: February | C37: =SUM(C32+C35) -> 3.980025 | D37: =SUM(D32+D35) -> 99.500625 | E37: =SUM(E32+E35) -> 0 | F37: =SUM(F32+F35) -> 0 | G37: =SUM(G32+G35) -> 0 | H37: =SUM(H32+H35) -> 0 | I37: =SUM(I32+I35) -> 74.625469 | J37: =SUM(C37:I37) -> 178.10612
B38: C/F Total Inc Missing from previous month | C38: =SUM(C37) -> 3.980025 | D38: =SUM(D37) -> 99.500625 | E38: =SUM(E37) -> 0 | F38: =SUM(F37) -> 0 | G38: =SUM(G37) -> 0 | H38: =SUM(H37) -> 0 | I38: =SUM(I37) -> 74.625469 | J38: =SUM(J37) -> 178.10612
B39: Born | J39: =SUM(C39:I39) -> 0
B40: Purchased | J40: =SUM(C40:I40) -> 0
...

Sheet HERD FEED COSTS
A2: 2026 ANNUAL LIVESTOCK FEED PROGRAM
A3: 2026 FORECAST/ACTUAL LIVESTOCK RETURN
C4: BULLS | D4: COWS | G4: STEERS | I4: CALVES | J4: TOTAL
A5: MONTH | C5: Mature Stud Bulls | D5: Breeding Cows | E5: Bulling Heifers | F5: Weaner Heifers | G5: Feeder Steers | H5: Weaner Steers | I5: Calves | J5: CATTLE ON HAND
A6: Cfwd from 2021 | C6: =SUM('Stock Numbers'!C6) -> 4 | D6: =SUM('Stock Numbers'!D6) -> 100 | E6: =SUM('Stock Numbers'!E6) -> 0 | F6: =SUM('Stock Numbers'!F6) -> 0 | G6: =SUM('Stock Numbers'!G6) -> 0 | H6: =SUM('Stock Numbers'!H6) -> 0 | I6: =SUM('Stock Numbers'!I6) -> 75 | J6: =SUM('Stock Numbers'!J6) -> 179
A7: 46023 | C7: =SUM('Stock Numbers'!C20) -> 3.99 | D7: =SUM('Stock Numbers'!D20) -> 99.75 | E7: =SUM('Stock Numbers'!E20) -> 0 | F7: =SUM('Stock Numbers'!F20) -> 0 | G7: =SUM('Stock Numbers'!G20) -> 0 | H7: =SUM('Stock Numbers'!H20) -> 0 | I7: =SUM('Stock Numbers'!I20) -> 74.8125 | J7: =SUM('Stock Numbers'!J20) -> 178.5525
A8: =EOMONTH(A7,0)+1 -> 46054 | C8: =SUM('Stock Numbers'!C37) -> 3.980025 | D8: =SUM('Stock Numbers'!D37) -> 99.500625 | E8: =SUM('Stock Numbers'!E37) -> 0 | F8: =SUM('Stock Numbers'!F37) -> 0 | G8: =SUM('Stock Numbers'!G37) -> 0 | H8: =SUM('Stock Numbers'!H37) -> 0 | I8: =SUM('Stock Numbers'!I37) -> 74.625469 | J8: =SUM('Stock Numbers'!J37) -> 178.10612
A9: =EOMONTH(A8,0)+1 -> 46082 | C9: =SUM('Stock Numbers'!C54) -> 3.9700749 | D9: =SUM('Stock Numbers'!D54) -> 99.251873 | E9: =SUM('Stock Numbers'!E54) -> 0 | F9: =SUM('Stock Numbers'!F54) -> 0 | G9: =SUM('Stock Numbers'!G54) -> 0 | H9: =SUM('Stock Numbers'!H54) -> 0 | I9: =SUM('Stock Numbers'!I54) -> 74.438905 | J9: =SUM('Stock Numbers'!J54) -> 177.66085
A10: =EOMONTH(A9,0)+1 -> 46113 | C10: =SUM('Stock Numbers'!C71) -> 3.9601498 | D10: =SUM('Stock Numbers'!D71) -> 99.003744 | E10: =SUM('Stock Numbers'!E71) -> 0 | F10: =SUM('Stock Numbers'!F71) -> 0 | G10: =SUM('Stock Numbers'!G71) -> 0 | H10: =SUM('Stock Numbers'!H71) -> 0 | I10: =SUM('Stock Numbers'!I71) -> 74.252808 | J10: =SUM('Stock Numbers'!J71) -> 177.2167
A11: =EOMONTH(A10,0)+1 -> 46143 | C11: =SUM('Stock Numbers'!C88) -> 3.9502494 | D11: =SUM('Stock Numbers'!D88) -> 86.756234 | E11: =SUM('Stock Numbers'!E88) -> 0 | F11: =SUM('Stock Numbers'!F88) -> 0 | G11: =SUM('Stock Numbers'!G88) -> 0 | H11: =SUM('Stock Numbers'!H88) -> 0 | I11: =SUM('Stock Numbers'!I88) -> 74.067176 | J11: =SUM('Stock Numbers'!J88) -> 164.77366
A12: =EOMONTH(A11,0)+1 -> 46174 | C12: =SUM('Stock Numbers'!C105) -> 3.9403738 | D12: =SUM('Stock Numbers'!D105) -> 86.539344 | E12: =SUM('Stock Numbers'!E105) -> 0 | F12: =SUM('Stock Numbers'!F105) -> 0 | G12: =SUM('Stock Numbers'!G105) -> 0 | H12: =SUM('Stock Numbers'!H105) -> 0 | I12: =SUM('Stock Numbers'!I105) -> 73.882008 | J12: =SUM('Stock Numbers'!J105) -> 164.36173
A13: =EOMONTH(A12,0)+1 -> 46204 | C13: =SUM('Stock Numbers'!C122) -> 3.9305228 | D13: =SUM('Stock Numbers'!D122) -> 86.322995 | E13: =SUM('Stock Numbers'!E122) -> 0 | F13: =SUM('Stock Numbers'!F122) -> 36.848651 | G13: =SUM('Stock Numbers'!G122) -> 0 | H13: =SUM('Stock Numbers'!H122) -> 36.848651 | I13: =SUM('Stock Numbers'!I122) -> 0 | J13: =SUM('Stock Numbers'!J122) -> 163.95082
A14: =EOMONTH(A13,0)+1 -> 46235 | C14: =SUM('Stock Numbers'!C139) -> 3.9206965 | D14: =SUM('Stock Numbers'!D139) -> 86.107188 | E14: =SUM('Stock Numbers'!E139) -> 0 | F14: =SUM('Stock Numbers'!F139) -> 36.75653 | G14: =SUM('Stock Numbers'!G139) -> 0 | H14: =SUM('Stock Numbers'!H139) -> 14.75653 | I14: =SUM('Stock Numbers'!I139) -> 0 | J14: =SUM('Stock Numbers'!J139) -> 141.54094
A15: =EOMONTH(A14,0)+1 -> 46266 | C15: =SUM('Stock Numbers'!C156) -> 2.9108948 | D15: =SUM('Stock Numbers'!D156) -> 85.89192 | E15: =SUM('Stock Numbers'!E156) -> 0 | F15: =SUM('Stock Numbers'!F156) -> 21.664638 | G15: =SUM('Stock Numbers'!G156) -> 0 | H15: =SUM('Stock Numbers'!H156) -> 14.719638 | I15: =SUM('Stock Numbers'!I156) -> 0 | J15: =SUM('Stock Numbers'!J156) -> 125.18709
A16: =EOMONTH(A15,0)+1 -> 46296 | C16: =SUM('Stock Numbers'!C173) -> 2.9036175 | D16: =SUM('Stock Numbers'!D173) -> 85.67719 | E16: =SUM('Stock Numbers'!E173) -> 0 | F16: =SUM('Stock Numbers'!F173) -> 21.610477 | G16: =SUM('Stock Numbers'!G173) -> 0 | H16: =SUM('Stock Numbers'!H173) -> 14.682839 | I16: =SUM('Stock Numbers'!I173) -> 24.580933 | J16: =SUM('Stock Numbers'!J173) -> 149.45506
A17: =EOMONTH(A16,0)+1 -> 46327 | C17: =SUM('Stock Numbers'!C190) -> 2.8963585 | D17: =SUM('Stock Numbers'!D190) -> 85.462997 | E17: =SUM('Stock Numbers'!E190) -> 0 | F17: =SUM('Stock Numbers'!F190) -> 21.556451 | G17: =SUM('Stock Numbers'!G190) -> 0 | H17: =SUM('Stock Numbers'!H190) -> 14.646132 | I17: =SUM('Stock Numbers'!I190) -> 49.100414 | J17: =SUM('Stock Numbers'!J190) -> 173.66235
A18: =EOMONTH(A17,0)+1 -> 46357 | C18: =SUM('Stock Numbers'!C207) -> 2.8891176 | D18: =SUM('Stock Numbers'!D207) -> 85.24934 | E18: =SUM('Stock Numbers'!E207) -> 0 | F18: =SUM('Stock Numbers'!F207) -> 21.50256 | G18: =SUM('Stock Numbers'!G207) -> 0 | H18: =SUM('Stock Numbers'!H207) -> 0.60951694 | I18: =SUM('Stock Numbers'!I207) -> 73.558596 | J18: =SUM('Stock Numbers'!J207) -> 183.80913
A19: CFwd to 2026 | C19: =SUM('Stock Numbers'!C224) -> 3 | D19: =SUM('Stock Numbers'!D224) -> 86 | E19: =SUM('Stock Numbers'!E224) -> 0 | F19: =SUM('Stock Numbers'!F224) -> 22 | G19: =SUM('Stock Numbers'!G224) -> 0 | H19: =SUM('Stock Numbers'!H224) -> 1 | I19: =SUM('Stock Numbers'!I224) -> 74 | J19: =SUM('Stock Numbers'!J224) -> 186
A21: ACCOUNTS | C21: Jan | D21: Feb | E21: Mar | F21: Apr | G21: May | H21: Jun | I21: Jul | J21: Aug | K21: Sep | L21: Oct | M21: Nov | N21: Dec | O21: Total
A22: Summer Maintenance | C22: =$J$74*B74*1000 -> 225.1158 | D22: =$J$92*B92*1000 -> 202.82207 | E22: =$J$110*B110*1000 -> 223.99163 | F22: =$J$128*$B$128*1000 -> 223.43165 | G22: =$J$146*B146*1000 -> 196.83307 | H22: =$J$164*B164*1000 -> 0 | I22: =$J$182*B182*1000 -> 0 | J22: =$J$200*B200*1000 -> 0 | K22: =J218*B218*1000 -> 0 | L22: =J236*B236*1000 -> 0 | M22: =J254*B254*1000 -> 376.8473 | N22: =J272*B272*1000 -> 398.86581 | O22: =SUM(C22:N22) -> 1847.9073
A23: Winter Maintenance | C23: =$J$75*B75*1000 -> 0 | D23: =$J$93*B93*1000 -> 0 | E23: =$J$111*B111*1000 -> 0 | F23: =$J$129 -> 0 | G23: =$J$147*B147*1000 -> 0 | H23: =$J$165*B165*1000 -> 768.8436 | I23: =$J$183*B183*1000 -> 731.55363 | J23: =$J$201*B201*1000 -> 649.58974 | K23: =J219*B219*1000 -> 587.50027 | L23: =J237*B237*1000 -> 621.84594 | M23: =J255*B255*1000 -> 328.05287 | N23: =J273*B273*1000 -> 0 | O23: =SUM(C23:N23) -> 3687.3861
A24: Special Nutrition | C24: =($J$76*B76+$J$78*B78+$J$77*B77+$J$79*B79+$J$80*B80)*1000 -> 0 | D24: =($J$94*B94+$J$95*B95+$J$96*B96+$J$97*B97+$J$98*B98)*1000 -> 0 | E24: =($J$112*B122+J113*B113+J114*B114+J115*B115+J116*B116)*1000 -> 0 | F24: =SUM($J$130:$J$134) -> 0 | G24: =($J$148*B148+J149*B149+J150*B150+J151*B151+$J$152*B152)*1000 -> 0 | H24: =($J$166*B166+J167*B167+J168*B168+J169*B169+J170*B170)*1000 -> 1145.1711 | I24: =(J184*B184+J185*B185+J186*B186+J187*B187+J188*B188)*1000 -> 0 | J24: =($J$202*B202+J203*B203+J204*B204+J205*B205+J206*B206)*1000 -> 0 | K24: =(J220*B220+J221*B221+J222*B222+J223*B223+J224*B224)*1000 -> 985.62699 | L24: =(J238*B238+J239*B239+J240*B240+J241*B241+J242*B242)*1000 -> 1310.8839 | M24: =($J$256*$B$256+$J$257*$B$257+$J$258*$B$258+$J$259*$B$259+$J$260*$B$260)*1000 -> 1471.0575 | N24: =(J274*B274+J275*B275+J276*B276+J277*B277+J278*B278)*1000 -> 0 | O24: =SUM(C24:N24) -> 4912.7395
C25: =SUM(C22:C24) -> 225.1158 | D25: =SUM(D22:D24) -> 202.82207 | E25: =SUM(E22:E24) -> 223.99163 | F25: =SUM(F22:F24) -> 223.43165 | G25: =SUM(G22:G24) -> 196.83307 | H25: =SUM(H22:H24) -> 1914.0147 | I25: =SUM(I22:I24) -> 731.55363 | J25: =SUM(J22:J24) -> 649.58974 | ... O25: =SUM(O22:O24) -> 10448.033
A27: 2026 TOTAL COST OF FEED
C28: BULLS | D28: COWS | G28: STEERS | I28: CALVES | J28: TOTAL
A29: MONTH | C29: Mature Stud Bulls | D29: Breeding Cows | E29: Bulling Heifers | F29: Weaner Heifers | G29: Feeder Steers | H29: Weaner Steers | I29: Calves | J29: COST PER MONTH
A30: =A7 -> 46023 | C30: =SUM(C7*C88) -> 8.6583 | D30: =SUM(D7*D88) -> 216.4575 | E30: =SUM(E7*E88) -> 0 | F30: =SUM(F7*F88) -> 0 | G30: =SUM(G7*G88) -> 0 | H30: =SUM(H7*H88) -> 0 | I30: =SUM(I7*I88) -> 0 | J30: =SUM(C30:I30) -> 225.1158
A31: =A8 -> 46054 | C31: =SUM(C8*C106) -> 8.6366543 | D31: =SUM(D8*D106) -> 215.91636 | E31: =SUM(E8*E106) -> 0 | F31: =SUM(F8*F106) -> 0 | G31: =SUM(G8*G106) -> 0 | H31: =SUM(H8*H106) -> 0 | I31: =SUM(I8*I106) -> 0 | J31: =SUM(C31:I31) -> 224.55301
A32: =A9 -> 46082 | C32: =SUM(C9*C124) -> 8.6150626 | D32: =SUM(D9*D124) -> 215.37657 | E32: =SUM(E9*E124) -> 0 | F32: =SUM(F9*F124) -> 0 | G32: =SUM(G9*G124) -> 0 | H32: =SUM(H9*H124) -> 0 | I32: =SUM(I9*I124) -> 0 | J32: =SUM(C32:I32) -> 223.99163
A33: =A10 -> 46113 | C33: =SUM(C10*C142) -> 8.593525 | D33: =SUM(D10*D142) -> 214.83812 | E33: =SUM(E10*E142) -> 0 | F33: =SUM(F10*F142) -> 0 | G33: =SUM(G10*G142) -> 0 | H33: =SUM(H10*H142) -> 0 | I33: =SUM(I10*I142) -> 0 | J33: =SUM(C33:I33) -> 223.43165
A34: =A11 -> 46143 | C34: =SUM(C11*C160) -> 8.5720411 | D34: =SUM(D11*D160) -> 188.26103 | E34: =SUM(E11*E160) -> 0 | F34: =SUM(F11*F160) -> 0 | G34: =SUM(G11*G160) -> 0 | H34: =SUM(H11*H160) -> 0 | I34: =SUM(I11*I160) -> 0 | J34: =SUM(C34:I34) -> 196.83307
A35: =A12 -> 46174 | C35: =SUM(C12*C178) -> 34.446747 | D35: =SUM(D12*D178) -> 605.22155 | E35: =SUM(E12*E178) -> 0 | F35: =SUM(F12*F178) -> 0 | G35: =SUM(G12*G178) -> 0 | H35: =SUM(H12*H178) -> 0 | I35: =SUM(I12*I178) -> 1274.3464 | J35: =SUM(C35:I35) -> 1914.0147
A36: =A13 -> 46204 | C36: =SUM(C13*C196) -> 22.907087 | D36: =SUM(D13*D196) -> 440.20412 | E36: =SUM(E13*E196) -> 0 | F36: =SUM(F13*F196) -> 134.22121 | G36: =SUM(G13*G196) -> 0 | H36: =SUM(H13*H196) -> 134.22121 | I36: =SUM(I13*I196) -> 0 | J36: =SUM(C36:I36) -> 731.55363
A37: =A14 -> 46235 | C37: =SUM(C14*C214) -> 22.849819 | D37: =SUM(D14*D214) -> 439.10361 | E37: =SUM(E14*E214) -> 0 | F37: =SUM(F14*F214) -> 133.88566 | G37: =SUM(G14*G214) -> 0 | H37: =SUM(H14*H214) -> 53.75066 | I37: =SUM(I14*I214) -> 0 | J37: =SUM(C37:I37) -> 649.58974
A38: =A15 -> 46266 | C38: =SUM(C15*C232) -> 16.964695 | D38: =SUM(D15*D232) -> 438.00585 | E38: =SUM(E15*E232) -> 0 | F38: =SUM(F15*F232) -> 78.913446 | G38: =SUM(G15*G232) -> 0 | H38: =SUM(H15*H232) -> 1039.2433 | I38: =SUM(I15*I232) -> 0 | J38: =SUM(C38:I38) -> 1573.1273
A39: =A16 -> 46296 | C39: =SUM(C16*C250) -> 16.922283 | D39: =SUM(D16*D250) -> 436.91083 | E39: =SUM(E16*E250) -> 0 | F39: =SUM(F16*F250) -> 78.716162 | G39: =SUM(G16*G250) -> 0 | H39: =SUM(H16*H250) -> 1364.3661 | I39: =SUM(I16*I250) -> 35.814419 | J39: =SUM(C39:I39) -> 1932.7298
A40: =A17 -> 46327 | C40: =SUM(C17*C268) -> 14.725087 | D40: =SUM(D17*D268) -> 403.36398 | E40: =SUM(E17*E268) -> 0 | F40: =SUM(F17*F268) -> 86.037184 | G40: =SUM(G17*G268) -> 0 | H40: =SUM(H17*H268) -> 1529.5139 | I40: =SUM(I17*I268) -> 142.31755 | J40: =SUM(C40:I40) -> 2175.9577
A41: =A18 -> 46357 | C41: =SUM(C18*C286) -> 6.2693852 | D41: =SUM(D18*D286) -> 184.99107 | E41: =SUM(E18*E286) -> 0 | F41: =SUM(F18*F286) -> 46.660554 | G41: =SUM(G18*G286) -> 0 | H41: =SUM(H18*H286) -> 1.3226518 | I41: =SUM(I18*I286) -> 159.62215 | J41: =SUM(C41:I41) -> 398.86581
A42: Total Cost per Annum | C42: =SUM(C30:C41) -> 178.16069 | D42: =SUM(D30:D41) -> 3998.6506 | E42: =SUM(E30:E41) -> 0 | F42: =SUM(F30:F41) -> 558.43422 | G42: =SUM(G30:G41) -> 0 | H42: =SUM(H30:H41) -> 4122.4178 | I42: =SUM(I30:I41) -> 1612.1005 | J42: =SUM(J30:J41) -> 10469.764
A43: Percentage of Costs | C43: =SUM(C42/$J$42) -> 0.017016686 | D43: =SUM(D42/$J$42) -> 0.38192366 | E43: =SUM(E42/$J$42) -> 0 | F43: =SUM(F42/$J$42) -> 0.053337804 | G43: =SUM(G42/$J$42) -> 0 | H43: =SUM(H42/$J$42) -> 0.39374506 | I43: =SUM(I42/$J$42) -> 0.15397678 | J43: =SUM(J42/$J$42) -> 1
...

Sheet VET & MED Costs
A2: ANNUAL LIVESTOCK MEDICAL PROGRAM
A3: ACTUAL LIVESTOCK RETURN
C4: BULLS | D4: COWS | E4: HEIFERS | G4: STEERS | I4: CALVES | J4: TOTAL
A5: MONTH | C5: Mature Bulls | D5: Breeding Cows | E5: Bulling Heifers | F5: Weaner Heifers | G5: Feeder Steers | H5: Weaner Steers | I5: Calves | J5: CATTLE ON HAND
A6: Cfwd from 2021 | C6: =SUM('Stock Numbers'!C6) -> 4 | D6: =SUM('Stock Numbers'!D6) -> 100 | E6: =SUM('Stock Numbers'!E6) -> 0 | F6: =SUM('Stock Numbers'!F6) -> 0 | G6: =SUM('Stock Numbers'!G6) -> 0 | H6: =SUM('Stock Numbers'!H6) -> 0 | I6: =SUM('Stock Numbers'!I6) -> 75 | J6: =SUM('Stock Numbers'!J6) -> 179
A7: 46023 | C7: =SUM('Stock Numbers'!C20) -> 3.99 | D7: =SUM('Stock Numbers'!D20) -> 99.75 | E7: =SUM('Stock Numbers'!E20) -> 0 | F7: =SUM('Stock Numbers'!F20) -> 0 | G7: =SUM('Stock Numbers'!G20) -> 0 | H7: =SUM('Stock Numbers'!H20) -> 0 | I7: =SUM('Stock Numbers'!I20) -> 74.8125 | J7: =SUM('Stock Numbers'!J20) -> 178.5525
A8: =EOMONTH(A7,0)+1 -> 46054 | C8: =SUM('Stock Numbers'!C37) -> 3.980025 | D8: =SUM('Stock Numbers'!D37) -> 99.500625 | E8: =SUM('Stock Numbers'!E37) -> 0 | F8: =SUM('Stock Numbers'!F37) -> 0 | G8: =SUM('Stock Numbers'!G37) -> 0 | H8: =SUM('Stock Numbers'!H37) -> 0 | I8: =SUM('Stock Numbers'!I37) -> 74.625469 | J8: =SUM('Stock Numbers'!J37) -> 178.10612
A9: =EOMONTH(A8,0)+1 -> 46082 | C9: =SUM('Stock Numbers'!C54) -> 3.9700749 | D9: =SUM('Stock Numbers'!D54) -> 99.251873 | E9: =SUM('Stock Numbers'!E54) -> 0 | F9: =SUM('Stock Numbers'!F54) -> 0 | G9: =SUM('Stock Numbers'!G54) -> 0 | H9: =SUM('Stock Numbers'!H54) -> 0 | I9: =SUM('Stock Numbers'!I54) -> 74.438905 | J9: =SUM('Stock Numbers'!J54) -> 177.66085
A10: =EOMONTH(A9,0)+1 -> 46113 | C10: =SUM('Stock Numbers'!C71) -> 3.9601498 | D10: =SUM('Stock Numbers'!D71) -> 99.003744 | E10: =SUM('Stock Numbers'!E71) -> 0 | F10: =SUM('Stock Numbers'!F71) -> 0 | G10: =SUM('Stock Numbers'!G71) -> 0 | H10: =SUM('Stock Numbers'!H71) -> 0 | I10: =SUM('Stock Numbers'!I71) -> 74.252808 | J10: =SUM('Stock Numbers'!J71) -> 177.2167
A11: =EOMONTH(A10,0)+1 -> 46143 | C11: =SUM('Stock Numbers'!C88) -> 3.9502494 | D11: =SUM('Stock Numbers'!D88) -> 86.756234 | E11: =SUM('Stock Numbers'!E88) -> 0 | F11: =SUM('Stock Numbers'!F88) -> 0 | G11: =SUM('Stock Numbers'!G88) -> 0 | H11: =SUM('Stock Numbers'!H88) -> 0 | I11: =SUM('Stock Numbers'!I88) -> 74.067176 | J11: =SUM('Stock Numbers'!J88) -> 164.77366
A12: =EOMONTH(A11,0)+1 -> 46174 | C12: =SUM('Stock Numbers'!C105) -> 3.9403738 | D12: =SUM('Stock Numbers'!D105) -> 86.539344 | E12: =SUM('Stock Numbers'!E105) -> 0 | F12: =SUM('Stock Numbers'!F105) -> 0 | G12: =SUM('Stock Numbers'!G105) -> 0 | H12: =SUM('Stock Numbers'!H105) -> 0 | I12: =SUM('Stock Numbers'!I105) -> 73.882008 | J12: =SUM('Stock Numbers'!J105) -> 164.36173
A13: =EOMONTH(A12,0)+1 -> 46204 | C13: =SUM('Stock Numbers'!C122) -> 3.9305228 | D13: =SUM('Stock Numbers'!D122) -> 86.322995 | E13: =SUM('Stock Numbers'!E122) -> 0 | F13: =SUM('Stock Numbers'!F122) -> 36.848651 | G13: =SUM('Stock Numbers'!G122) -> 0 | H13: =SUM('Stock Numbers'!H122) -> 36.848651 | I13: =SUM('Stock Numbers'!I122) -> 0 | J13: =SUM('Stock Numbers'!J122) -> 163.95082
A14: =EOMONTH(A13,0)+1 -> 46235 | C14: =SUM('Stock Numbers'!C139) -> 3.9206965 | D14: =SUM('Stock Numbers'!D139) -> 86.107188 | E14: =SUM('Stock Numbers'!E139) -> 0 | F14: =SUM('Stock Numbers'!F139) -> 36.75653 | G14: =SUM('Stock Numbers'!G139) -> 0 | H14: =SUM('Stock Numbers'!H139) -> 14.75653 | I14: =SUM('Stock Numbers'!I139) -> 0 | J14: =SUM('Stock Numbers'!J139) -> 141.54094
A15: =EOMONTH(A14,0)+1 -> 46266 | C15: =SUM('Stock Numbers'!C156) -> 2.9108948 | D15: =SUM('Stock Numbers'!D156) -> 85.89192 | E15: =SUM('Stock Numbers'!E156) -> 0 | F15: =SUM('Stock Numbers'!F156) -> 21.664638 | G15: =SUM('Stock Numbers'!G156) -> 0 | H15: =SUM('Stock Numbers'!H156) -> 14.719638 | I15: =SUM('Stock Numbers'!I156) -> 0 | J15: =SUM('Stock Numbers'!J156) -> 125.18709
A16: =EOMONTH(A15,0)+1 -> 46296 | C16: =SUM('Stock Numbers'!C173) -> 2.9036175 | D16: =SUM('Stock Numbers'!D173) -> 85.67719 | E16: =SUM('Stock Numbers'!E173) -> 0 | F16: =SUM('Stock Numbers'!F173) -> 21.610477 | G16: =SUM('Stock Numbers'!G173) -> 0 | H16: =SUM('Stock Numbers'!H173) -> 14.682839 | I16: =SUM('Stock Numbers'!I173) -> 24.580933 | J16: =SUM('Stock Numbers'!J173) -> 149.45506
A17: =EOMONTH(A16,0)+1 -> 46327 | C17: =SUM('Stock Numbers'!C190) -> 2.8963585 | D17: =SUM('Stock Numbers'!D190) -> 85.462997 | E17: =SUM('Stock Numbers'!E190) -> 0 | F17: =SUM('Stock Numbers'!F190) -> 21.556451 | G17: =SUM('Stock Numbers'!G190) -> 0 | H17: =SUM('Stock Numbers'!H190) -> 14.646132 | I17: =SUM('Stock Numbers'!I190) -> 49.100414 | J17: =SUM('Stock Numbers'!J190) -> 173.66235
A18: =EOMONTH(A17,0)+1 -> 46357 | C18: =SUM('Stock Numbers'!C207) -> 2.8891176 | D18: =SUM('Stock Numbers'!D207) -> 85.24934 | E18: =SUM('Stock Numbers'!E207) -> 0 | F18: =SUM('Stock Numbers'!F207) -> 21.50256 | G18: =SUM('Stock Numbers'!G207) -> 0 | H18: =SUM('Stock Numbers'!H207) -> 0.60951694 | I18: =SUM('Stock Numbers'!I207) -> 73.558596 | J18: =SUM('Stock Numbers'!J207) -> 183.80913
A19: CFwd to 2027 | C19: =SUM('Stock Numbers'!C224) -> 3 | D19: =SUM('Stock Numbers'!D224) -> 86 | E19: =SUM('Stock Numbers'!E224) -> 0 | F19: =SUM('Stock Numbers'!F224) -> 22 | G19: =SUM('Stock Numbers'!G224) -> 0 | H19: =SUM('Stock Numbers'!H224) -> 1 | I19: =SUM('Stock Numbers'!I224) -> 74 | J19: =SUM('Stock Numbers'!J224) -> 186
A20: TOTAL COST OF MEDICAL
C21: BULLS | D21: COWS | E21: HEIFERS | G21: STEERS | I21: CALVES | J21: TOTAL
A22: MONTH | C22: Mature Bulls | D22: Breeding Cows | E22: Bulling Heifers | F22: Weaner Heifers | G22: Feeder Steers | H22: Weaner Steers | I22: Calves | J22: COST PER MONTH
A23: =A7 -> 46023 | C23: =SUM(C7*C78) -> 2.3142 | D23: =SUM(D7*D78) -> 57.855 | E23: =SUM(E7*E78) -> 0 | F23: =SUM(F7*F78) -> 0 | G23: =SUM(G7*G78) -> 0 | H23: =SUM(H7*H78) -> 0 | I23: =SUM(I7*I78) -> 492.26625 | J23: =SUM(C23:I23) -> 552.43545
A24: =A8 -> 46054 | C24: =SUM(C8*C98) -> 8.3978528 | D24: =SUM(D8*D98) -> 209.94632 | E24: =SUM(E8*E98) -> 0 | F24: =SUM(F8*F98) -> 0 | G24: =SUM(G8*G98) -> 0 | H24: =SUM(H8*H98) -> 0 | I24: =SUM(I8*I98) -> 157.45974 | J24: =SUM(C24:I24) -> 375.80391
A25: =A9 -> 46082 | C25: =SUM(C9*C118) -> 2.3026435 | D25: =SUM(D9*D118) -> 57.566087 | E25: =SUM(E9*E118) -> 0 | F25: =SUM(F9*F118) -> 0 | G25: =SUM(G9*G118) -> 0 | H25: =SUM(H9*H118) -> 0 | I25: =SUM(I9*I118) -> 43.174565 | J25: =SUM(C25:I25) -> 103.0433
A26: =A10 -> 46113 | C26: =SUM(C10*C138) -> 5.5838111 | D26: =SUM(D10*D138) -> 139.59528 | E26: =SUM(E10*E138) -> 0 | F26: =SUM(F10*F138) -> 0 | G26: =SUM(G10*G138) -> 0 | H26: =SUM(H10*H138) -> 0 | I26: =SUM(I10*I138) -> 104.69646 | J26: =SUM(C26:I26) -> 249.87555
A27: =A11 -> 46143 | C27: =SUM(C11*C158) -> 2.2911446 | D27: =SUM(D11*D158) -> 50.318616 | E27: =SUM(E11*E158) -> 0 | F27: =SUM(F11*F158) -> 0 | G27: =SUM(G11*G158) -> 0 | H27: =SUM(H11*H158) -> 0 | I27: =SUM(I11*I158) -> 42.958962 | J27: =SUM(C27:I27) -> 95.568723
A28: =A12 -> 46174 | C28: =SUM(C12*C178) -> 2.2854168 | D28: =SUM(D12*D178) -> 50.192819 | E28: =SUM(E12*E178) -> 0 | F28: =SUM(F12*F178) -> 0 | G28: =SUM(G12*G178) -> 0 | H28: =SUM(H12*H178) -> 0 | I28: =SUM(I12*I178) -> 42.851565 | J28: =SUM(C28:I28) -> 95.329801
A29: =A13 -> 46204 | C29: =SUM(C13*C198) -> 2.2797032 | D29: =SUM(D13*D198) -> 50.067337 | E29: =SUM(E13*E198) -> 0 | F29: =SUM(F13*F198) -> 132.65515 | G29: =SUM(G13*G198) -> 0 | H29: =SUM(H13*H198) -> 77.750654 | I29: =SUM(I13*I198) -> 0 | J29: =SUM(C29:I29) -> 262.75284
A30: =A14 -> 46235 | C30: =SUM(C14*C218) -> 198.30883 | D30: =SUM(D14*D218) -> 49.942169 | E30: =SUM(E14*E218) -> 0 | F30: =SUM(F14*F218) -> 21.318787 | G30: =SUM(G14*G218) -> 0 | H30: =SUM(H14*H218) -> 8.5587873 | I30: =SUM(I14*I218) -> 0 | J30: =SUM(C30:I30) -> 278.12857
A31: =A15 -> 46266 | C31: =SUM(C15*C238) -> 1.688319 | D31: =SUM(D15*D238) -> 49.817314 | E31: =SUM(E15*E238) -> 0 | F31: =SUM(F15*F238) -> 12.56549 | G31: =SUM(G15*G238) -> 0 | H31: =SUM(H15*H238) -> 8.5373903 | I31: =SUM(I15*I238) -> 0 | J31: =SUM(C31:I31) -> 72.608513
A32: =A16 -> 46296 | C32: =SUM(C16*C258) -> 9.9884443 | D32: =SUM(D16*D258) -> 294.72953 | E32: =SUM(E16*E258) -> 0 | F32: =SUM(F16*F258) -> 31.983506 | G32: =SUM(G16*G258) -> 0 | H32: =SUM(H16*H258) -> 21.730602 | I32: =SUM(I16*I258) -> 19.173128 | J32: =SUM(C32:I32) -> 377.60521
A33: =A17 -> 46327 | C33: =SUM(C17*C278) -> 1.6798879 | D33: =SUM(D17*D278) -> 49.568538 | E33: =SUM(E17*E278) -> 0 | F33: =SUM(F17*F278) -> 12.502741 | G33: =SUM(G17*G278) -> 0 | H33: =SUM(H17*H278) -> 8.4947567 | I33: =SUM(I17*I278) -> 28.47824 | J33: =SUM(C33:I33) -> 100.72416
A34: =A18 -> 46357 | C34: =SUM(C18*C298) -> 1.6756882 | D34: =SUM(D18*D298) -> 49.444617 | E34: =SUM(E18*E298) -> 0 | F34: =SUM(F18*F298) -> 12.471485 | G34: =SUM(G18*G298) -> 0 | H34: =SUM(H18*H298) -> 0.35351983 | I34: =SUM(I18*I298) -> 42.663986 | J34: =SUM(C34:I34) -> 106.6093
A35: Total Cost per Annum | C35: =SUM(C23:C34) -> 238.79594 | D35: =SUM(D23:D34) -> 1109.0436 | E35: =SUM(E23:E34) -> 0 | F35: =SUM(F23:F34) -> 223.49715 | G35: =SUM(G23:G34) -> 0 | H35: =SUM(H23:H34) -> 125.42571 | I35: =SUM(I23:I34) -> 973.72289 | J35: =SUM(J23:J34) -> 2670.4853
A38: Percentage of Costs | C38: =SUM(C35/$J$35) -> 0.089420428 | D38: =SUM(D35/$J$35) -> 0.41529666 | E38: =SUM(E35/$J$35) -> 0 | F38: =SUM(F35/$J$35) -> 0.083691587 | G38: =SUM(G35/$J$35) -> 0 | H38: =SUM(H35/$J$35) -> 0.046967384 | I38: =SUM(I35/$J$35) -> 0.36462394 | J38: =SUM(J35/$J$35) -> 1
A39: TOTAL COST PER TREATMENT
A40: MONTH | C40: ='Inputs '!$A$21 -> Supa-Dip | D40: ='Inputs '!$A$22 -> General Treatments | E40: ='Inputs '!$A$23 -> Supavax | F40: ='Inputs '!$A$24 -> S19 Brucelosis | G40: ='Inputs '!$A$25 -> Vibrin | H40: ='Inputs '!$A$26 -> Lumpyvax | I40: ='Inputs '!$A$27 -> Bimectin | J40: ='Inputs '!$A$28 -> Multimin | K40: ='Inputs '!$A$29 -> Bull Testing | L40: ='Inputs '!$A$30 -> Ear Tags | M40: ='Inputs '!$A$31 -> Flucazole | N40: ='Inputs '!$A$32 -> - | O40: ='Inputs '!$A$33 -> - | P40: ='Inputs '!$A$34 -> - | Q40: ='Inputs '!$A$35 -> - | R40: ='Inputs '!$A$36 -> - | S40: Cost Per Month
A41: =A23 -> 46023 | C41: =SUM(J62) -> 85.7052 | D41: =SUM(J63) -> 17.85525 | E41: =SUM(J64) -> 0 | F41: =SUM(J65) -> 0 | G41: =SUM(J66) -> 0 | H41: =SUM(J67) -> 0 | I41: =SUM(J68) -> 0 | J41: =SUM(J69) -> 0 | K41: =SUM(J70) -> 0 | L41: =SUM(J71) -> 448.875 | M41: =SUM(J72) -> 0 | S41: =SUM(C41:R41) -> 552.43545
A42: =A24 -> 46054 | C42: =J82 -> 85.490937 | D42: =J83 -> 17.810612 | E42: =J84 -> 147.82808 | F42: =J85 -> 0 | G42: =J86 -> 0 | H42: =J87 -> 124.67428 | I42: =J88 -> 0 | J42: =J89 -> 0 | K42: =J90 -> 0 | L42: =J91 -> 0 | M42: =J92 -> 0 | S42: =SUM(C42:R42) -> 375.80391
A43: =A25 -> 46082 | C43: =SUM(J102) -> 85.27721 | D43: =J103 -> 17.766085 | E43: =J104 -> 0 | F43: =J105 -> 0 | G43: =J106 -> 0 | H43: =J107 -> 0 | I43: =J108 -> 0 | J43: =J109 -> 0 | K43: =J110 -> 0 | L43: =J111 -> 0 | M43: =J112 -> 0 | S43: =SUM(C43:R43) -> 103.0433
...

Sheet REVENUE ASSUMPTIONS
A2: RANCH REVENUE ASSUMPTIONS | G2: 46023 | H2: =EOMONTH(G2,0)+1 -> 46054 | I2: =EOMONTH(H2,0)+1 -> 46082 | J2: =EOMONTH(I2,0)+1 -> 46113 | K2: =EOMONTH(J2,0)+1 -> 46143 | L2: =EOMONTH(K2,0)+1 -> 46174 | M2: =EOMONTH(L2,0)+1 -> 46204 | N2: =EOMONTH(M2,0)+1 -> 46235 | O2: =EOMONTH(N2,0)+1 -> 46266 | ... R2: =EOMONTH(Q2,0)+1 -> 46357 | T2: TOTAL
F3: INTERNAL SALES | G3: =SUM('Stock Numbers'!J10) -> 0 | H3: =SUM('Stock Numbers'!J25) -> 0 | I3: =SUM('Stock Numbers'!J42) -> 0 | J3: =SUM('Stock Numbers'!J59) -> 0 | K3: =SUM('Stock Numbers'!J76) -> 0 | L3: =SUM('Stock Numbers'!J93) -> 0 | M3: =SUM('Stock Numbers'!J110) -> 0 | N3: =SUM('Stock Numbers'!J127) -> 0 | O3: =SUM('Stock Numbers'!J144) -> 0 | P3: =SUM('Stock Numbers'!J161) -> 0 | Q3: =SUM('Stock Numbers'!J178) -> 0 | R3: =SUM('Stock Numbers'!J195) -> 0 | T3: =SUM(G3:R3) -> 0
F4: EXTERNAL SALES | G4: =SUM('Stock Numbers'!J11) -> 0 | H4: =SUM('Stock Numbers'!J26) -> 0 | I4: =SUM('Stock Numbers'!J43) -> 0 | J4: =SUM('Stock Numbers'!J60) -> 0 | K4: =SUM('Stock Numbers'!J77) -> 12 | L4: =L15 -> 0 | M4: =SUM('Stock Numbers'!J111) -> 0 | N4: =SUM('Stock Numbers'!J128) -> 22 | O4: =SUM('Stock Numbers'!J145) -> 16 | P4: =P21 -> 0 | Q4: =SUM('Stock Numbers'!J179) -> 0 | R4: =SUM('Stock Numbers'!J196) -> 14 | T4: =SUM(G4:R4) -> 64
F5: TOTAL SALES | G5: =SUM(G3+G4) -> 0 | H5: =SUM(H3+H4) -> 0 | I5: =SUM(I3+I4) -> 0 | J5: =SUM(J3+J4) -> 0 | K5: =SUM(K3+K4) -> 12 | L5: =SUM(L3+L4) -> 0 | M5: =SUM(M3+M4) -> 0 | N5: =SUM(N3+N4) -> 22 | ... R5: =SUM(R3+R4) -> 14 | T5: =SUM(T3:T4) -> 64
F6: INTERNAL REVENUE
F7: EXTERNAL REVENUE
F8: TOTAL REVENUE | G8: =SUM(G13+G18+G24+G29) -> 0 | H8: =SUM(H13+H18+H24+H29) -> 0 | I8: =SUM(I13+I18+I24+I29) -> 0 | J8: =SUM(J13+J18+J24+J29) -> 0 | K8: =SUM(K13+K18+K24+K29) -> 12408 | L8: =SUM(L13+L18+L24+L29) -> 0 | M8: =SUM(M13+M18+M24+M29) -> 0 | N8: =SUM(N13+N18+N24+N29) -> 8800 | ... R8: =SUM(R13+R18+R24+R29) -> 11725 | T8: =SUM(G8:S8) -> 44273
D10: INTERNAL | E10: Bulls | F10: Number | O10: 1 | T10: =SUM(G10:S10) -> 1
F11: Ave weight | G11: 800 | H11: 8000 | I11: 600 | J11: 600 | K11: 600 | L11: 600 | M11: 600 | N11: 600 | O11: 800 | P11: 600 | Q11: 600 | R11: 600 | T11: =AVERAGE(H11:R11) -> 1290.9091
F12: Price | G12: 1.2 | H12: 1.2 | I12: 1.2 | J12: 1.2 | K12: 1.2 | L12: 1.2 | M12: 1.2 | N12: 1.2 | O12: 1.8 | P12: 1.2 | Q12: 1.2 | R12: 1.2 | T12: =AVERAGE(H12:R12) -> 1.2545455
F13: Revenue | G13: =+G10*G11*G12 -> 0 | H13: =+H10*H11*H12 -> 0 | I13: =+I10*I11*I12 -> 0 | J13: =+J10*J11*J12 -> 0 | K13: =+K10*K11*K12 -> 0 | L13: =+L10*L11*L12 -> 0 | M13: =+M10*M11*M12 -> 0 | N13: =+N10*N11*N12 -> 0 | ... R13: =+R10*R11*R12 -> 0 | T13: =SUM(G13:S13) -> 1440
E15: Cull Cows | F15: Number | K15: 12 | T15: =SUM(G15:S15) -> 12
F16: Ave weight | G16: 470 | H16: 470 | I16: 470 | J16: 470 | K16: 470 | L16: 470 | M16: 470 | N16: 470 | O16: 470 | P16: 470 | Q16: 470 | R16: 470 | T16: =AVERAGE(H16:R16) -> 470
F17: Price | G17: 1.6 | H17: 1.6 | I17: 1.6 | J17: 1.6 | K17: 2.2 | L17: 1.6 | M17: 1.6 | N17: 1.6 | O17: 1.6 | P17: 1.6 | Q17: 1.6 | R17: 1.6 | T17: =AVERAGE(H17:R17) -> 1.6545455
F18: Revenue | G18: =+G15*G16*G17 -> 0 | H18: =+H15*H16*H17 -> 0 | I18: =+I15*I16*I17 -> 0 | J18: =+J15*J16*J17 -> 0 | K18: =+K15*K16*K17 -> 12408 | L18: =+L15*L16*L17 -> 0 | M18: =+M15*M16*M17 -> 0 | N18: =+N15*N16*N17 -> 0 | ... S18: =+S15*S16*S17 -> 0 | T18: =SUM(G18:S18) -> 12408
E21: Cull Steers | F21: Number | N21: 22 | R21: 14 | T21: =SUM(G21:S21) -> 36
F22: Ave weight | G22: 250 | H22: 275 | I22: 300 | J22: 200 | K22: 200 | L22: 200 | M22: 200 | N22: 200 | O22: 200 | P22: 200 | Q22: 200 | R22: 335 | T22: =AVERAGE(H22:R22) -> 228.18182
F23: Price | G23: 1.5 | H23: 1.5 | I23: 1.5 | J23: 1.5 | K23: 1.5 | L23: 1.5 | M23: 1.5 | N23: 2 | O23: 1.5 | P23: 1.5 | Q23: 1.5 | R23: 2.5 | T23: =AVERAGE(H23:R23) -> 1.6363636
F24: Revenue | G24: =+G21*G22*G23 -> 0 | H24: =+H21*H22*H23 -> 0 | I24: =+I21*I22*I23 -> 0 | J24: =+J21*J22*J23 -> 0 | K24: =+K21*K22*K23 -> 0 | L24: =+L21*L22*L23 -> 0 | M24: =+M21*M22*M23 -> 0 | N24: =+N21*N22*N23 -> 8800 | ... S24: =+S21*S22*S23 -> 0 | T24: =SUM(G24:S24) -> 20525
E26: Cull Heifers | F26: Number | O26: 15 | T26: =SUM(G26:S26) -> 15
F27: Ave weight | G27: 200 | H27: 180 | I27: 325 | J27: 325 | K27: 325 | L27: 325 | M27: 200 | N27: 325 | O27: 220 | P27: 325 | Q27: 325 | R27: 325 | T27: =AVERAGE(H27:R27) -> 290.90909
F28: Price | G28: 2 | H28: 1.2 | I28: 2 | J28: 2 | K28: 2 | L28: 2 | M28: 2 | N28: 2 | O28: 3 | P28: 2 | Q28: 2 | R28: 2 | T28: =AVERAGE(H28:R28) -> 2.0181818
F29: Revenue | G29: =+G26*G27*G28 -> 0 | H29: =+H26*H27*H28 -> 0 | I29: =+I26*I27*I28 -> 0 | J29: =+J26*J27*J28 -> 0 | K29: =+K26*K27*K28 -> 0 | L29: =+L26*L27*L28 -> 0 | M29: =+M26*M27*M28 -> 0 | N29: =+N26*N27*N28 -> 0 | ... S29: =+S26*S27*S28 -> 0 | T29: =SUM(G29:S29) -> 9900

Sheet LABOUR
A1: LABOUR
C2: 26 | E2: 24 | G2: 26 | I2: 25 | K2: 26 | M2: 25 | O2: 26 | Q2: 26 | S2: 25 | U2: 26 | W2: 25 | Y2: 26
B3: Jan | D3: Feb | F3: Mar | H3: Apr | J3: May | L3: Jun | N3: Jul | P3: Aug | R3: Sep | T3: Oct | V3: Nov | X3: Dec | Z3: Total
A4: ='Inputs '!A40 -> Foreman | B4: 1 | C4: =B4*'Inputs '!B40*$C$2 -> 260 | D4: 1 | E4: =D4*'Inputs '!C40*$E$2 -> 240 | F4: 1 | G4: =F4*'Inputs '!D40*$G$2 -> 260 | H4: 1 | I4: =H4*'Inputs '!E40*$I$2 -> 250 | J4: 1 | K4: =J4*'Inputs '!F40*$K$2 -> 260 | L4: 1 | M4: =L4*'Inputs '!G40*M$2 -> 250 | N4: 1 | O4: =N4*'Inputs '!H40*$O$2 -> 260 | P4: 1 | Q4: =P4*'Inputs '!I40*$Q$2 -> 260 | R4: 1 | S4: =R4*'Inputs '!J40*$S$2 -> 250 | T4: 1 | U4: =T4*'Inputs '!K40*$U$2 -> 260 | V4: 1 | W4: =V4*'Inputs '!L40*$W$2 -> 250 | X4: 1 | Y4: =X4*'Inputs '!M40*$Y$2 -> 520 | Z4: =SUM(C4,E4,G4,I4,K4,M4,O4,Q4,S4,U4,W4,Y4) -> 3320
A5: ='Inputs '!A41 -> Admin | B5: 0 | C5: =B5*'Inputs '!B41*$C$2 -> 0 | D5: 0 | E5: =D5*'Inputs '!C41*$E$2 -> 0 | F5: 0 | G5: =F5*'Inputs '!D41*$C$2 -> 0 | H5: 0 | I5: =H5*'Inputs '!E41*$I$2 -> 0 | J5: 0 | K5: =J5*'Inputs '!F41*$K$2 -> 0 | L5: 0 | M5: =L5*'Inputs '!G41*M$2 -> 0 | N5: 0 | O5: =N5*'Inputs '!H41*$O$2 -> 0 | P5: 0 | Q5: =P5*'Inputs '!I41*$Q$2 -> 0 | R5: 0 | S5: =R5*'Inputs '!J41*$S$2 -> 0 | T5: 0 | U5: =T5*'Inputs '!K41*$U$2 -> 0 | V5: 0 | W5: =V5*'Inputs '!L41*$W$2 -> 0 | X5: 0 | Y5: =X5*'Inputs '!M41*$Y$2 -> 0 | Z5: =SUM(C5,E5,G5,I5,K5,M5,O5,Q5,S5,U5,W5,Y5) -> 0
